BEGIN:VCALENDAR
VERSION:2.0
PRODID:-//Town of Stedman - ECPv6.15.20//NONSGML v1.0//EN
CALSCALE:GREGORIAN
METHOD:PUBLISH
X-ORIGINAL-URL:https://www.townofstedman.com
X-WR-CALDESC:Events for Town of Stedman
REFRESH-INTERVAL;VALUE=DURATION:PT1H
X-Robots-Tag:noindex
X-PUBLISHED-TTL:PT1H
BEGIN:VTIMEZONE
TZID:America/New_York
BEGIN:DAYLIGHT
TZOFFSETFROM:-0500
TZOFFSETTO:-0400
TZNAME:EDT
DTSTART:20280312T070000
END:DAYLIGHT
BEGIN:STANDARD
TZOFFSETFROM:-0400
TZOFFSETTO:-0500
TZNAME:EST
DTSTART:20281105T060000
END:STANDARD
BEGIN:DAYLIGHT
TZOFFSETFROM:-0500
TZOFFSETTO:-0400
TZNAME:EDT
DTSTART:20290311T070000
END:DAYLIGHT
BEGIN:STANDARD
TZOFFSETFROM:-0400
TZOFFSETTO:-0500
TZNAME:EST
DTSTART:20291104T060000
END:STANDARD
BEGIN:DAYLIGHT
TZOFFSETFROM:-0500
TZOFFSETTO:-0400
TZNAME:EDT
DTSTART:20300310T070000
END:DAYLIGHT
BEGIN:STANDARD
TZOFFSETFROM:-0400
TZOFFSETTO:-0500
TZNAME:EST
DTSTART:20301103T060000
END:STANDARD
BEGIN:DAYLIGHT
TZOFFSETFROM:-0500
TZOFFSETTO:-0400
TZNAME:EDT
DTSTART:20310309T070000
END:DAYLIGHT
BEGIN:STANDARD
TZOFFSETFROM:-0400
TZOFFSETTO:-0500
TZNAME:EST
DTSTART:20311102T060000
END:STANDARD
END:VTIMEZONE
BEGIN:VEVENT
DTSTART;TZID=America/New_York:20291023T080000
DTEND;TZID=America/New_York:20291023T163000
DTSTAMP:20260425T131800
CREATED:20241113T203611Z
LAST-MODIFIED:20250219T235600Z
UID:10001582-1887436800-1887467400@www.townofstedman.com
SUMMARY:WEEKLY TRASH PICK UP
DESCRIPTION:
URL:https://www.townofstedman.com/event/weekly-trash-pick-up-2/2029-10-23/
END:VEVENT
BEGIN:VEVENT
DTSTART;TZID=America/New_York:20291025T080000
DTEND;TZID=America/New_York:20291025T163000
DTSTAMP:20260425T131800
CREATED:20241113T203611Z
LAST-MODIFIED:20250219T235600Z
UID:10001583-1887609600-1887640200@www.townofstedman.com
SUMMARY:WEEKLY TRASH PICK UP
DESCRIPTION:
URL:https://www.townofstedman.com/event/weekly-trash-pick-up-2/2029-10-25/
END:VEVENT
BEGIN:VEVENT
DTSTART;TZID=America/New_York:20291030T080000
DTEND;TZID=America/New_York:20291030T163000
DTSTAMP:20260425T131800
CREATED:20241113T203611Z
LAST-MODIFIED:20250219T235600Z
UID:10001584-1888041600-1888072200@www.townofstedman.com
SUMMARY:WEEKLY TRASH PICK UP
DESCRIPTION:
URL:https://www.townofstedman.com/event/weekly-trash-pick-up-2/2029-10-30/
END:VEVENT
BEGIN:VEVENT
DTSTART;TZID=America/New_York:20291101T080000
DTEND;TZID=America/New_York:20291101T163000
DTSTAMP:20260425T131800
CREATED:20241113T203611Z
LAST-MODIFIED:20250219T235600Z
UID:10001585-1888214400-1888245000@www.townofstedman.com
SUMMARY:WEEKLY TRASH PICK UP
DESCRIPTION:
URL:https://www.townofstedman.com/event/weekly-trash-pick-up-2/2029-11-01/
END:VEVENT
BEGIN:VEVENT
DTSTART;TZID=America/New_York:20291106T080000
DTEND;TZID=America/New_York:20291106T163000
DTSTAMP:20260425T131800
CREATED:20241113T203611Z
LAST-MODIFIED:20250219T235600Z
UID:10001586-1888646400-1888677000@www.townofstedman.com
SUMMARY:WEEKLY TRASH PICK UP
DESCRIPTION:
URL:https://www.townofstedman.com/event/weekly-trash-pick-up-2/2029-11-06/
END:VEVENT
BEGIN:VEVENT
DTSTART;TZID=America/New_York:20291108T080000
DTEND;TZID=America/New_York:20291108T163000
DTSTAMP:20260425T131800
CREATED:20241113T203611Z
LAST-MODIFIED:20250219T235600Z
UID:10001587-1888819200-1888849800@www.townofstedman.com
SUMMARY:WEEKLY TRASH PICK UP
DESCRIPTION:
URL:https://www.townofstedman.com/event/weekly-trash-pick-up-2/2029-11-08/
END:VEVENT
BEGIN:VEVENT
DTSTART;TZID=America/New_York:20291113T080000
DTEND;TZID=America/New_York:20291113T163000
DTSTAMP:20260425T131800
CREATED:20241113T203611Z
LAST-MODIFIED:20250219T235600Z
UID:10001588-1889251200-1889281800@www.townofstedman.com
SUMMARY:WEEKLY TRASH PICK UP
DESCRIPTION:
URL:https://www.townofstedman.com/event/weekly-trash-pick-up-2/2029-11-13/
END:VEVENT
BEGIN:VEVENT
DTSTART;TZID=America/New_York:20291115T080000
DTEND;TZID=America/New_York:20291115T163000
DTSTAMP:20260425T131800
CREATED:20241113T203611Z
LAST-MODIFIED:20250219T235600Z
UID:10001622-1889424000-1889454600@www.townofstedman.com
SUMMARY:WEEKLY TRASH PICK UP
DESCRIPTION:
URL:https://www.townofstedman.com/event/weekly-trash-pick-up-2/2029-11-15/
END:VEVENT
BEGIN:VEVENT
DTSTART;TZID=America/New_York:20291120T080000
DTEND;TZID=America/New_York:20291120T163000
DTSTAMP:20260425T131800
CREATED:20241113T203611Z
LAST-MODIFIED:20250219T235600Z
UID:10001623-1889856000-1889886600@www.townofstedman.com
SUMMARY:WEEKLY TRASH PICK UP
DESCRIPTION:
URL:https://www.townofstedman.com/event/weekly-trash-pick-up-2/2029-11-20/
END:VEVENT
BEGIN:VEVENT
DTSTART;TZID=America/New_York:20291122T080000
DTEND;TZID=America/New_York:20291122T163000
DTSTAMP:20260425T131800
CREATED:20241113T203611Z
LAST-MODIFIED:20250219T235600Z
UID:10001624-1890028800-1890059400@www.townofstedman.com
SUMMARY:WEEKLY TRASH PICK UP
DESCRIPTION:
URL:https://www.townofstedman.com/event/weekly-trash-pick-up-2/2029-11-22/
END:VEVENT
BEGIN:VEVENT
DTSTART;TZID=America/New_York:20291127T080000
DTEND;TZID=America/New_York:20291127T163000
DTSTAMP:20260425T131800
CREATED:20241113T203611Z
LAST-MODIFIED:20250219T235600Z
UID:10001625-1890460800-1890491400@www.townofstedman.com
SUMMARY:WEEKLY TRASH PICK UP
DESCRIPTION:
URL:https://www.townofstedman.com/event/weekly-trash-pick-up-2/2029-11-27/
END:VEVENT
BEGIN:VEVENT
DTSTART;TZID=America/New_York:20291129T080000
DTEND;TZID=America/New_York:20291129T163000
DTSTAMP:20260425T131800
CREATED:20241113T203611Z
LAST-MODIFIED:20250219T235600Z
UID:10001626-1890633600-1890664200@www.townofstedman.com
SUMMARY:WEEKLY TRASH PICK UP
DESCRIPTION:
URL:https://www.townofstedman.com/event/weekly-trash-pick-up-2/2029-11-29/
END:VEVENT
BEGIN:VEVENT
DTSTART;TZID=America/New_York:20291204T080000
DTEND;TZID=America/New_York:20291204T163000
DTSTAMP:20260425T131800
CREATED:20241113T203611Z
LAST-MODIFIED:20250219T235600Z
UID:10001627-1891065600-1891096200@www.townofstedman.com
SUMMARY:WEEKLY TRASH PICK UP
DESCRIPTION:
URL:https://www.townofstedman.com/event/weekly-trash-pick-up-2/2029-12-04/
END:VEVENT
BEGIN:VEVENT
DTSTART;TZID=America/New_York:20291206T080000
DTEND;TZID=America/New_York:20291206T163000
DTSTAMP:20260425T131800
CREATED:20241113T203611Z
LAST-MODIFIED:20250219T235600Z
UID:10001628-1891238400-1891269000@www.townofstedman.com
SUMMARY:WEEKLY TRASH PICK UP
DESCRIPTION:
URL:https://www.townofstedman.com/event/weekly-trash-pick-up-2/2029-12-06/
END:VEVENT
BEGIN:VEVENT
DTSTART;TZID=America/New_York:20291211T080000
DTEND;TZID=America/New_York:20291211T163000
DTSTAMP:20260425T131800
CREATED:20241113T203611Z
LAST-MODIFIED:20250219T235600Z
UID:10001629-1891670400-1891701000@www.townofstedman.com
SUMMARY:WEEKLY TRASH PICK UP
DESCRIPTION:
URL:https://www.townofstedman.com/event/weekly-trash-pick-up-2/2029-12-11/
END:VEVENT
BEGIN:VEVENT
DTSTART;TZID=America/New_York:20291213T080000
DTEND;TZID=America/New_York:20291213T163000
DTSTAMP:20260425T131800
CREATED:20241113T203611Z
LAST-MODIFIED:20250219T235600Z
UID:10001630-1891843200-1891873800@www.townofstedman.com
SUMMARY:WEEKLY TRASH PICK UP
DESCRIPTION:
URL:https://www.townofstedman.com/event/weekly-trash-pick-up-2/2029-12-13/
END:VEVENT
BEGIN:VEVENT
DTSTART;TZID=America/New_York:20291218T080000
DTEND;TZID=America/New_York:20291218T163000
DTSTAMP:20260425T131800
CREATED:20241113T203611Z
LAST-MODIFIED:20250219T235600Z
UID:10001631-1892275200-1892305800@www.townofstedman.com
SUMMARY:WEEKLY TRASH PICK UP
DESCRIPTION:
URL:https://www.townofstedman.com/event/weekly-trash-pick-up-2/2029-12-18/
END:VEVENT
BEGIN:VEVENT
DTSTART;TZID=America/New_York:20291220T080000
DTEND;TZID=America/New_York:20291220T163000
DTSTAMP:20260425T131800
CREATED:20241113T203611Z
LAST-MODIFIED:20250219T235600Z
UID:10001632-1892448000-1892478600@www.townofstedman.com
SUMMARY:WEEKLY TRASH PICK UP
DESCRIPTION:
URL:https://www.townofstedman.com/event/weekly-trash-pick-up-2/2029-12-20/
END:VEVENT
BEGIN:VEVENT
DTSTART;TZID=America/New_York:20291225T080000
DTEND;TZID=America/New_York:20291225T163000
DTSTAMP:20260425T131800
CREATED:20241113T203611Z
LAST-MODIFIED:20250219T235600Z
UID:10001633-1892880000-1892910600@www.townofstedman.com
SUMMARY:WEEKLY TRASH PICK UP
DESCRIPTION:
URL:https://www.townofstedman.com/event/weekly-trash-pick-up-2/2029-12-25/
END:VEVENT
BEGIN:VEVENT
DTSTART;TZID=America/New_York:20291227T080000
DTEND;TZID=America/New_York:20291227T163000
DTSTAMP:20260425T131800
CREATED:20241113T203611Z
LAST-MODIFIED:20250219T235600Z
UID:10001634-1893052800-1893083400@www.townofstedman.com
SUMMARY:WEEKLY TRASH PICK UP
DESCRIPTION:
URL:https://www.townofstedman.com/event/weekly-trash-pick-up-2/2029-12-27/
END:VEVENT
BEGIN:VEVENT
DTSTART;TZID=America/New_York:20300101T080000
DTEND;TZID=America/New_York:20300101T163000
DTSTAMP:20260425T131800
CREATED:20241113T203611Z
LAST-MODIFIED:20250219T235600Z
UID:10001635-1893484800-1893515400@www.townofstedman.com
SUMMARY:WEEKLY TRASH PICK UP
DESCRIPTION:
URL:https://www.townofstedman.com/event/weekly-trash-pick-up-2/2030-01-01/
END:VEVENT
BEGIN:VEVENT
DTSTART;TZID=America/New_York:20300103T080000
DTEND;TZID=America/New_York:20300103T163000
DTSTAMP:20260425T131800
CREATED:20241113T203611Z
LAST-MODIFIED:20250219T235600Z
UID:10001636-1893657600-1893688200@www.townofstedman.com
SUMMARY:WEEKLY TRASH PICK UP
DESCRIPTION:
URL:https://www.townofstedman.com/event/weekly-trash-pick-up-2/2030-01-03/
END:VEVENT
BEGIN:VEVENT
DTSTART;TZID=America/New_York:20300108T080000
DTEND;TZID=America/New_York:20300108T163000
DTSTAMP:20260425T131800
CREATED:20241113T203611Z
LAST-MODIFIED:20250219T235600Z
UID:10001637-1894089600-1894120200@www.townofstedman.com
SUMMARY:WEEKLY TRASH PICK UP
DESCRIPTION:
URL:https://www.townofstedman.com/event/weekly-trash-pick-up-2/2030-01-08/
END:VEVENT
BEGIN:VEVENT
DTSTART;TZID=America/New_York:20300110T080000
DTEND;TZID=America/New_York:20300110T163000
DTSTAMP:20260425T131800
CREATED:20241113T203611Z
LAST-MODIFIED:20250219T235600Z
UID:10001638-1894262400-1894293000@www.townofstedman.com
SUMMARY:WEEKLY TRASH PICK UP
DESCRIPTION:
URL:https://www.townofstedman.com/event/weekly-trash-pick-up-2/2030-01-10/
END:VEVENT
BEGIN:VEVENT
DTSTART;TZID=America/New_York:20300115T080000
DTEND;TZID=America/New_York:20300115T163000
DTSTAMP:20260425T131800
CREATED:20241113T203611Z
LAST-MODIFIED:20250219T235600Z
UID:10001639-1894694400-1894725000@www.townofstedman.com
SUMMARY:WEEKLY TRASH PICK UP
DESCRIPTION:
URL:https://www.townofstedman.com/event/weekly-trash-pick-up-2/2030-01-15/
END:VEVENT
BEGIN:VEVENT
DTSTART;TZID=America/New_York:20300117T080000
DTEND;TZID=America/New_York:20300117T163000
DTSTAMP:20260425T131800
CREATED:20241113T203611Z
LAST-MODIFIED:20250219T235600Z
UID:10001640-1894867200-1894897800@www.townofstedman.com
SUMMARY:WEEKLY TRASH PICK UP
DESCRIPTION:
URL:https://www.townofstedman.com/event/weekly-trash-pick-up-2/2030-01-17/
END:VEVENT
BEGIN:VEVENT
DTSTART;TZID=America/New_York:20300122T080000
DTEND;TZID=America/New_York:20300122T163000
DTSTAMP:20260425T131800
CREATED:20241113T203611Z
LAST-MODIFIED:20250219T235600Z
UID:10001641-1895299200-1895329800@www.townofstedman.com
SUMMARY:WEEKLY TRASH PICK UP
DESCRIPTION:
URL:https://www.townofstedman.com/event/weekly-trash-pick-up-2/2030-01-22/
END:VEVENT
BEGIN:VEVENT
DTSTART;TZID=America/New_York:20300124T080000
DTEND;TZID=America/New_York:20300124T163000
DTSTAMP:20260425T131800
CREATED:20241113T203611Z
LAST-MODIFIED:20250219T235600Z
UID:10001642-1895472000-1895502600@www.townofstedman.com
SUMMARY:WEEKLY TRASH PICK UP
DESCRIPTION:
URL:https://www.townofstedman.com/event/weekly-trash-pick-up-2/2030-01-24/
END:VEVENT
BEGIN:VEVENT
DTSTART;TZID=America/New_York:20300129T080000
DTEND;TZID=America/New_York:20300129T163000
DTSTAMP:20260425T131800
CREATED:20241113T203611Z
LAST-MODIFIED:20250219T235600Z
UID:10001643-1895904000-1895934600@www.townofstedman.com
SUMMARY:WEEKLY TRASH PICK UP
DESCRIPTION:
URL:https://www.townofstedman.com/event/weekly-trash-pick-up-2/2030-01-29/
END:VEVENT
BEGIN:VEVENT
DTSTART;TZID=America/New_York:20300131T080000
DTEND;TZID=America/New_York:20300131T163000
DTSTAMP:20260425T131800
CREATED:20241113T203611Z
LAST-MODIFIED:20250219T235600Z
UID:10001644-1896076800-1896107400@www.townofstedman.com
SUMMARY:WEEKLY TRASH PICK UP
DESCRIPTION:
URL:https://www.townofstedman.com/event/weekly-trash-pick-up-2/2030-01-31/
END:VEVENT
END:VCALENDAR